BEGIN:VCALENDAR
PRODID: -//CFLIB.ORG//iCalUS()//EN
VERSION:2.0
BEGIN:VTIMEZONE
TZID:Eastern Time
BEGIN:STANDARD
DTSTART:20061101T020000
RRULE:FREQ=YEARLY;INTERVAL=1;BYDAY=1SU;BYMONTH=11
TZOFFSETFROM:-0400
TZOFFSETTO:-0500
TZNAME:Standard Time
END:STANDARD
BEGIN:DAYLIGHT
DTSTART:20060301T020000
RRULE:FREQ=YEARLY;INTERVAL=1;BYDAY=2SU;BYMONTH=3
TZOFFSETFROM:-0500
TZOFFSETTO:-0400
TZNAME:Daylight Savings Time
END:DAYLIGHT
END:VTIMEZONE
BEGIN:VEVENT
UID:1776601826631.senate.gov
DTSTAMP:20260419T123026
DTSTART;TZID=Eastern Time:20260422T100000
DTEND;TZID=Eastern Time:20260422T140000
SUMMARY:A Review of the President’s Budget Request for the National Aeronautics and Space Administration for Fiscal Year 2027
LOCATION:2318 Rayburn House Office Building
URL:https://democrats-science.house.gov/hearings/a-review-of-the-presidents-budget-request-for-the-national-aeronautics-and-space-administration-for-fiscal-year-2027
PRIORITY:1
TRANSP:OPAQUE
CLASS:PUBLIC
BEGIN:VALARM
TRIGGER:-PT30M
ACTION:DISPLAY
DESCRIPTION:Reminder
END:VALARM
END:VEVENT
END:VCALENDAR